BEGIN:VCALENDAR
VERSION:2.0
PRODID:-//wp-events-plugin.com//7.2.3.1//EN
TZID:America/Los_Angeles
X-WR-TIMEZONE:America/Los_Angeles
BEGIN:VEVENT
UID:4@orangehospice.net
DTSTART;TZID=America/Los_Angeles:20260314T090000
DTEND;TZID=America/Los_Angeles:20260314T110000
DTSTAMP:20260306T193558Z
URL:https://www.orangehospice.net/events/orange-hospice-at-kcs-korean-reso
 urce-fair-supporting-seniors-caregivers/
SUMMARY:Orange Hospice at KCS Korean Resource Fair: Supporting Seniors & Ca
 regivers
DESCRIPTION:Orange Hospice is honored to participate in the upcoming KCS Ko
 rean Resource Fair.\nThis free community event is specifically designed to
  spotlight the vital programs and services that support Korean seniors and
  their families in and around Buena Park.\nConnect with Orange Hospice\nAt
  our booth\, the Orange Hospice team will be available to provide compassi
 onate guidance on end-of-life care\, emotional support\, and the various w
 ays we help families maintain dignity and peace during life’s most sensi
 tive chapters.\nWhether you are looking for immediate resources or simply 
 want to understand the options available for a loved one\, we are here to 
 listen and help.\nWhat you can find at the fair:\n\n\n 	\nComprehensive In
 formation: Learn about affordable healthcare options\, counseling services
 \, and local food distributions.\n\n 	\nProfessional Guidance: Access info
 rmation on legal and immigration services\, social support programs\, and 
 independent living.\n\n 	\nBilingual Support: To ensure clarity and comfor
 t\, all participating vendors—including Orange Hospice—will provide in
 formation and assistance in both English and Korean.\n\n 	\nDirect Access:
  Connect with key organizations like CalOptima Health\, the Council on Agi
 ng Southern California\, and Korean Community Services (KCS).\n\n\nEvent D
 etails:\n\n\n 	\nWhen: March 14\, 2026\, from 9:00 AM to 11:00 AM.\n\n 	\n
 Where: Buena Park Senior Center.\n\n 	\nCost: Free to attend\; no prior re
 gistration is required.\n\n\nWe invite all seniors\, family members\, and 
 caregivers in the Orange County area to join us for a morning of connectio
 n and empowerment. Let us help you build a stronger support system for the
  future.
ATTACH;FMTTYPE=image/jpeg:https://www.orangehospice.net/wp-content/uploads
 /2026/03/stock-photo-senior-old-friends-using-mobile-phone-take-photo-outd
 oor-park.jpg
END:VEVENT
BEGIN:VTIMEZONE
TZID:America/Los_Angeles
X-LIC-LOCATION:America/Los_Angeles
BEGIN:DAYLIGHT
DTSTART:20260308T030000
TZOFFSETFROM:-0800
TZOFFSETTO:-0700
TZNAME:PDT
END:DAYLIGHT
END:VTIMEZONE
END:VCALENDAR